Name | Last modified | Size | Description | |
---|---|---|---|---|
Parent Directory | - | |||
buildbin-out.txt | 19-Mar-2022 00:06 | 1.1K | ||
buildbin-summary.dcf | 19-Mar-2022 00:06 | 486 | ||
buildsrc-out.txt | 19-Mar-2022 00:06 | 814 | ||
buildsrc-summary.dcf | 19-Mar-2022 00:06 | 433 | ||
checksrc-out.txt | 19-Mar-2022 00:06 | 2.9K | ||
checksrc-summary.dcf | 19-Mar-2022 00:06 | 426 | ||
install-out.txt | 19-Mar-2022 00:06 | 1.1K | ||
install-summary.dcf | 19-Mar-2022 00:06 | 258 | ||