Name | Last modified | Size | Description | |
---|---|---|---|---|
Parent Directory | - | |||
buildbin-summary.dcf | 20-Oct-2022 02:22 | 500 | ||
buildbin-out.txt | 20-Oct-2022 02:22 | 1.1K | ||
checksrc-summary.dcf | 20-Oct-2022 02:22 | 424 | ||
checksrc-out.txt | 20-Oct-2022 02:22 | 3.0K | ||
buildsrc-summary.dcf | 20-Oct-2022 02:22 | 413 | ||
buildsrc-out.txt | 20-Oct-2022 02:22 | 796 | ||
install-summary.dcf | 20-Oct-2022 02:22 | 259 | ||
install-out.txt | 20-Oct-2022 02:22 | 1.0K | ||