Name | Last modified | Size | Description | |
---|---|---|---|---|
Parent Directory | - | |||
buildsrc-out.txt | 20-Oct-2022 02:21 | 861 | ||
buildsrc-summary.dcf | 20-Oct-2022 02:21 | 412 | ||
checksrc-out.txt | 20-Oct-2022 02:21 | 4.2K | ||
checksrc-summary.dcf | 20-Oct-2022 02:21 | 422 | ||
install-out.txt | 20-Oct-2022 02:21 | 5.5K | ||
install-summary.dcf | 20-Oct-2022 02:21 | 255 | ||