Name | Last modified | Size | Description | |
---|---|---|---|---|
Parent Directory | - | |||
install-summary.dcf | 19-Mar-2022 00:08 | 268 | ||
buildsrc-summary.dcf | 19-Mar-2022 00:08 | 451 | ||
checksrc-summary.dcf | 19-Mar-2022 00:08 | 452 | ||
buildbin-summary.dcf | 19-Mar-2022 00:08 | 515 | ||
buildsrc-out.txt | 19-Mar-2022 00:08 | 781 | ||
checksrc-out.txt | 19-Mar-2022 00:08 | 5.9K | ||
buildbin-out.txt | 19-Mar-2022 00:08 | 16K | ||
install-out.txt | 19-Mar-2022 00:08 | 16K | ||