Name | Last modified | Size | Description | |
---|---|---|---|---|
Parent Directory | - | |||
buildbin-out.txt | 19-Mar-2022 00:08 | 72K | ||
buildbin-summary.dcf | 19-Mar-2022 00:08 | 523 | ||
buildsrc-out.txt | 19-Mar-2022 00:08 | 880 | ||
buildsrc-summary.dcf | 19-Mar-2022 00:08 | 458 | ||
checksrc-out.txt | 19-Mar-2022 00:08 | 4.5K | ||
checksrc-summary.dcf | 19-Mar-2022 00:08 | 453 | ||
install-out.txt | 19-Mar-2022 00:08 | 72K | ||
install-summary.dcf | 19-Mar-2022 00:08 | 272 | ||