Index of /checkResults/3.15/bioc-LATEST/XCIR/raw-results/nebbiolo1
Name
Last modified
Size
Description
Parent Directory
-
install-out.txt
20-Oct-2022 02:21
938
install-summary.dcf
20-Oct-2022 02:21
253
buildsrc-out.txt
20-Oct-2022 02:21
1.3K
buildsrc-summary.dcf
20-Oct-2022 02:21
327