![]() | Name | Last modified | Size | Description |
---|---|---|---|---|
![]() | Parent Directory | - | ||
![]() | install-out.txt | 19-Mar-2022 00:08 | 1.2K | |
![]() | install-summary.dcf | 19-Mar-2022 00:08 | 267 | |
![]() | buildsrc-out.txt | 19-Mar-2022 00:08 | 875 | |
![]() | buildsrc-summary.dcf | 19-Mar-2022 00:08 | 450 | |
![]() | checksrc-out.txt | 19-Mar-2022 00:08 | 3.7K | |
![]() | checksrc-summary.dcf | 19-Mar-2022 00:08 | 445 | |
![]() | buildbin-out.txt | 19-Mar-2022 00:08 | 1.3K | |
![]() | buildbin-summary.dcf | 19-Mar-2022 00:08 | 512 | |