Index of /checkResults/3.15/bioc-LATEST/Ularcirc/raw-results

[ICO]NameLast modifiedSizeDescription

[DIR]Parent Directory  -  
[   ]info.dcf09-Aug-2022 02:20 286  
[DIR]merida1/09-Aug-2022 02:20 -  
[DIR]nebbiolo1/09-Aug-2022 02:20 -  
[DIR]palomino3/04-Aug-2022 02:22 -  
[DIR]riesling1/19-Mar-2022 00:08 -