Name | Last modified | Size | Description | |
---|---|---|---|---|
Parent Directory | - | |||
buildsrc-out.txt | 20-Oct-2022 02:21 | 810 | ||
buildsrc-summary.dcf | 20-Oct-2022 02:21 | 417 | ||
checksrc-out.txt | 20-Oct-2022 02:21 | 3.2K | ||
checksrc-summary.dcf | 20-Oct-2022 02:21 | 427 | ||
install-out.txt | 20-Oct-2022 02:21 | 942 | ||
install-summary.dcf | 20-Oct-2022 02:21 | 260 | ||