Index of /checkResults/3.15/bioc-LATEST/Travel/raw-results/merida1
Name
Last modified
Size
Description
Parent Directory
-
install-summary.dcf
20-Oct-2022 02:23
266
install-out.txt
20-Oct-2022 02:23
9.6K
buildsrc-summary.dcf
20-Oct-2022 02:23
347
buildsrc-out.txt
20-Oct-2022 02:23
665