Index of /checkResults/3.15/bioc-LATEST/TRESS/raw-results/riesling1
Name
Last modified
Size
Description
Parent Directory
-
install-summary.dcf
19-Mar-2022 00:08
263
buildsrc-summary.dcf
19-Mar-2022 00:08
361
install-out.txt
19-Mar-2022 00:08
2.0K
buildsrc-out.txt
19-Mar-2022 00:08
2.3K