![]() | Name | Last modified | Size | Description |
---|---|---|---|---|
![]() | Parent Directory | - | ||
![]() | buildsrc-out.txt | 20-Oct-2022 02:21 | 860 | |
![]() | buildsrc-summary.dcf | 20-Oct-2022 02:21 | 409 | |
![]() | checksrc-out.txt | 20-Oct-2022 02:21 | 3.4K | |
![]() | checksrc-summary.dcf | 20-Oct-2022 02:21 | 414 | |
![]() | install-out.txt | 20-Oct-2022 02:21 | 949 | |
![]() | install-summary.dcf | 20-Oct-2022 02:21 | 254 | |