![]() | Name | Last modified | Size | Description |
---|---|---|---|---|
![]() | Parent Directory | - | ||
![]() | install-summary.dcf | 20-Oct-2022 02:22 | 260 | |
![]() | checksrc-summary.dcf | 20-Oct-2022 02:22 | 431 | |
![]() | buildsrc-summary.dcf | 20-Oct-2022 02:22 | 437 | |
![]() | buildbin-summary.dcf | 20-Oct-2022 02:22 | 491 | |
![]() | buildsrc-out.txt | 20-Oct-2022 02:22 | 879 | |
![]() | install-out.txt | 20-Oct-2022 02:22 | 959 | |
![]() | buildbin-out.txt | 20-Oct-2022 02:22 | 1.0K | |
![]() | checksrc-out.txt | 20-Oct-2022 02:22 | 5.5K | |