![]() | Name | Last modified | Size | Description |
---|---|---|---|---|
![]() | Parent Directory | - | ||
![]() | buildsrc-out.txt | 20-Oct-2022 02:20 | 853 | |
![]() | buildsrc-summary.dcf | 20-Oct-2022 02:20 | 405 | |
![]() | checksrc-out.txt | 20-Oct-2022 02:20 | 5.4K | |
![]() | checksrc-summary.dcf | 20-Oct-2022 02:20 | 408 | |
![]() | install-out.txt | 20-Oct-2022 02:20 | 943 | |
![]() | install-summary.dcf | 20-Oct-2022 02:20 | 251 | |