Name | Last modified | Size | Description | |
---|---|---|---|---|
Parent Directory | - | |||
install-summary.dcf | 19-Mar-2022 00:08 | 260 | ||
install-out.txt | 19-Mar-2022 00:08 | 2.5K | ||
checksrc-summary.dcf | 19-Mar-2022 00:08 | 431 | ||
checksrc-out.txt | 19-Mar-2022 00:08 | 6.7K | ||
buildsrc-summary.dcf | 19-Mar-2022 00:08 | 436 | ||
buildsrc-out.txt | 19-Mar-2022 00:08 | 879 | ||
buildbin-summary.dcf | 19-Mar-2022 00:08 | 491 | ||
buildbin-out.txt | 19-Mar-2022 00:08 | 2.3K | ||