Name | Last modified | Size | Description | |
---|---|---|---|---|
Parent Directory | - | |||
buildbin-summary.dcf | 20-Oct-2022 02:23 | 539 | ||
buildbin-out.txt | 20-Oct-2022 02:23 | 2.9K | ||
checksrc-summary.dcf | 20-Oct-2022 02:23 | 451 | ||
checksrc-out.txt | 20-Oct-2022 02:23 | 3.7K | ||
buildsrc-summary.dcf | 20-Oct-2022 02:23 | 432 | ||
buildsrc-out.txt | 20-Oct-2022 02:23 | 916 | ||
install-summary.dcf | 20-Oct-2022 02:23 | 272 | ||
install-out.txt | 20-Oct-2022 02:23 | 2.0K | ||