Name | Last modified | Size | Description | |
---|---|---|---|---|
Parent Directory | - | |||
buildbin-out.txt | 19-Mar-2022 00:08 | 2.4K | ||
buildbin-summary.dcf | 19-Mar-2022 00:08 | 527 | ||
buildsrc-out.txt | 19-Mar-2022 00:08 | 909 | ||
buildsrc-summary.dcf | 19-Mar-2022 00:08 | 461 | ||
checksrc-out.txt | 19-Mar-2022 00:08 | 3.9K | ||
checksrc-summary.dcf | 19-Mar-2022 00:08 | 455 | ||
install-out.txt | 19-Mar-2022 00:08 | 2.4K | ||
install-summary.dcf | 19-Mar-2022 00:08 | 272 | ||