Name | Last modified | Size | Description | |
---|---|---|---|---|
Parent Directory | - | |||
buildbin-out.txt | 15-Oct-2022 02:22 | 1.1K | ||
buildbin-summary.dcf | 15-Oct-2022 02:22 | 527 | ||
buildsrc-out.txt | 20-Oct-2022 02:22 | 7.6K | ||
buildsrc-summary.dcf | 20-Oct-2022 02:22 | 375 | ||
checksrc-out.txt | 15-Oct-2022 02:22 | 3.9K | ||
checksrc-summary.dcf | 15-Oct-2022 02:22 | 455 | ||
install-out.txt | 20-Oct-2022 02:22 | 1.0K | ||
install-summary.dcf | 20-Oct-2022 02:22 | 272 | ||