Name | Last modified | Size | Description | |
---|---|---|---|---|
Parent Directory | - | |||
install-out.txt | 20-Oct-2022 02:20 | 1.0K | ||
install-summary.dcf | 20-Oct-2022 02:20 | 283 | ||
buildsrc-summary.dcf | 20-Oct-2022 02:20 | 454 | ||
buildsrc-out.txt | 20-Oct-2022 02:20 | 854 | ||
checksrc-out.txt | 20-Oct-2022 02:20 | 5.6K | ||
checksrc-summary.dcf | 20-Oct-2022 02:20 | 478 | ||