Name | Last modified | Size | Description | |
---|---|---|---|---|
Parent Directory | - | |||
install-summary.dcf | 20-Oct-2022 02:22 | 280 | ||
install-out.txt | 20-Oct-2022 02:22 | 3.0K | ||
checksrc-summary.dcf | 20-Oct-2022 02:22 | 471 | ||
checksrc-out.txt | 20-Oct-2022 02:22 | 4.0K | ||
buildsrc-summary.dcf | 20-Oct-2022 02:22 | 476 | ||
buildsrc-out.txt | 20-Oct-2022 02:22 | 961 | ||
buildbin-summary.dcf | 20-Oct-2022 02:22 | 551 | ||
buildbin-out.txt | 20-Oct-2022 02:22 | 3.2K | ||