Index of /checkResults/3.15/bioc-LATEST/Structstrings/raw-results/palomino3

[ICO]NameLast modifiedSizeDescription

[DIR]Parent Directory  -  
[TXT]buildbin-out.txt02-Jul-2022 01:07 3.2K 
[   ]buildbin-summary.dcf02-Jul-2022 01:07 551  
[TXT]buildsrc-out.txt02-Jul-2022 01:07 961  
[   ]buildsrc-summary.dcf02-Jul-2022 01:07 474  
[TXT]checksrc-out.txt02-Jul-2022 01:07 4.0K 
[   ]checksrc-summary.dcf02-Jul-2022 01:07 471  
[TXT]install-out.txt02-Jul-2022 01:07 3.0K 
[   ]install-summary.dcf02-Jul-2022 01:07 280