Index of /checkResults/3.15/bioc-LATEST/Structstrings/raw-results/nebbiolo1

[ICO]NameLast modifiedSizeDescription

[DIR]Parent Directory  -  
[TXT]buildsrc-out.txt02-Jul-2022 01:05 923  
[   ]buildsrc-summary.dcf02-Jul-2022 01:05 435  
[TXT]checksrc-out.txt02-Jul-2022 01:05 3.6K 
[   ]checksrc-summary.dcf02-Jul-2022 01:05 448  
[TXT]install-out.txt02-Jul-2022 01:05 2.6K 
[   ]install-summary.dcf02-Jul-2022 01:05 271