Index of /checkResults/3.15/bioc-LATEST/Structstrings/raw-results/merida1

[ICO]NameLast modifiedSizeDescription

[DIR]Parent Directory  -  
[TXT]buildbin-out.txt02-Jul-2022 01:08 4.2K 
[   ]buildbin-summary.dcf02-Jul-2022 01:08 566  
[TXT]buildsrc-out.txt02-Jul-2022 01:08 933  
[   ]buildsrc-summary.dcf02-Jul-2022 01:08 445  
[TXT]checksrc-out.txt02-Jul-2022 01:08 3.8K 
[   ]checksrc-summary.dcf02-Jul-2022 01:08 468  
[TXT]install-out.txt02-Jul-2022 01:08 3.3K 
[   ]install-summary.dcf02-Jul-2022 01:08 281