Name | Last modified | Size | Description | |
---|---|---|---|---|
Parent Directory | - | |||
buildbin-out.txt | 20-Oct-2022 02:23 | 1.9K | ||
buildbin-summary.dcf | 20-Oct-2022 02:23 | 572 | ||
buildsrc-out.txt | 20-Oct-2022 02:23 | 844 | ||
buildsrc-summary.dcf | 20-Oct-2022 02:23 | 449 | ||
checksrc-out.txt | 20-Oct-2022 02:23 | 5.8K | ||
checksrc-summary.dcf | 20-Oct-2022 02:23 | 478 | ||
install-out.txt | 20-Oct-2022 02:23 | 1.6K | ||
install-summary.dcf | 20-Oct-2022 02:23 | 283 | ||