Back to Multiple platform build/check report for BioC 3.15
ABCDEFGHIJKLMNOPQR[S]TUVWXYZ

This page was generated on 2022-06-24 12:08:12 -0400 (Fri, 24 Jun 2022).

HostnameOSArch (*)R versionInstalled pkgs
nebbiolo1Linux (Ubuntu 20.04.4 LTS)x86_644.2.0 (2022-04-22) -- "Vigorous Calisthenics" 4380
palomino3Windows Server 2022 Datacenterx644.2.0 (2022-04-22 ucrt) -- "Vigorous Calisthenics" 4156
merida1macOS 10.14.6 Mojavex86_644.2.0 (2022-04-22) -- "Vigorous Calisthenics" 4221
Click on any hostname to see more info about the system (e.g. compilers)      (*) as reported by 'uname -p', except on Windows and Mac OS X

BUILD results for Spectra on merida1


To the developers/maintainers of the Spectra package:
- Please allow up to 24 hours (and sometimes 48 hours) for your latest push to git@git.bioconductor.org:packages/Spectra.git to
reflect on this report. See How and When does the builder pull? When will my changes propagate? for more information.
- Make sure to use the following settings in order to reproduce any error or warning you see on this page.

raw results

Package 1900/2140HostnameOS / ArchINSTALLBUILDCHECKBUILD BIN
Spectra 1.6.0  (landing page)
RforMassSpectrometry Package Maintainer
Snapshot Date: 2022-06-23 13:55:15 -0400 (Thu, 23 Jun 2022)
git_url: https://git.bioconductor.org/packages/Spectra
git_branch: RELEASE_3_15
git_last_commit: 36a4f90
git_last_commit_date: 2022-04-26 12:08:00 -0400 (Tue, 26 Apr 2022)
nebbiolo1Linux (Ubuntu 20.04.4 LTS) / x86_64  OK    OK    OK  UNNEEDED, same version is already published
palomino3Windows Server 2022 Datacenter / x64  OK    OK    OK    OK  UNNEEDED, same version is already published
merida1macOS 10.14.6 Mojave / x86_64  OK    OK    OK    NA  

Summary

Package: Spectra
Version: 1.6.0
Command: /Library/Frameworks/R.framework/Resources/bin/R CMD build --keep-empty-dirs --no-resave-data Spectra
StartedAt: 2022-06-23 21:51:07 -0400 (Thu, 23 Jun 2022)
EndedAt: 2022-06-23 21:52:14 -0400 (Thu, 23 Jun 2022)
EllapsedTime: 67.1 seconds
RetCode: 0
Status:   OK  
PackageFile: Spectra_1.6.0.tar.gz
PackageFileSize: 748 KiB

Command output

##############################################################################
##############################################################################
###
### Running command:
###
###   /Library/Frameworks/R.framework/Resources/bin/R CMD build --keep-empty-dirs --no-resave-data Spectra
###
##############################################################################
##############################################################################


* checking for file ‘Spectra/DESCRIPTION’ ... OK
* preparing ‘Spectra’:
* checking DESCRIPTION meta-information ... OK
* installing the package to build vignettes
* creating vignettes ... OK
* checking for LF line-endings in source and make files and shell scripts
* checking for empty or unneeded directories
WARNING: directory ‘Spectra/man/figures’ is empty
WARNING: directory ‘Spectra/pkgdown’ is empty
* looking to see if a ‘data/datalist’ file should be added
* building ‘Spectra_1.6.0.tar.gz’