![]() | Name | Last modified | Size | Description |
---|---|---|---|---|
![]() | Parent Directory | - | ||
![]() | install-summary.dcf | 20-Oct-2022 02:20 | 279 | |
![]() | buildsrc-summary.dcf | 20-Oct-2022 02:20 | 448 | |
![]() | checksrc-summary.dcf | 20-Oct-2022 02:20 | 464 | |
![]() | install-out.txt | 20-Oct-2022 02:20 | 1.0K | |
![]() | buildsrc-out.txt | 20-Oct-2022 02:20 | 1.2K | |
![]() | checksrc-out.txt | 20-Oct-2022 02:20 | 3.6K | |