Name | Last modified | Size | Description | |
---|---|---|---|---|
Parent Directory | - | |||
buildbin-out.txt | 19-Mar-2022 00:08 | 2.6K | ||
buildbin-summary.dcf | 19-Mar-2022 00:08 | 592 | ||
buildsrc-out.txt | 19-Mar-2022 00:08 | 904 | ||
buildsrc-summary.dcf | 19-Mar-2022 00:08 | 505 | ||
checksrc-out.txt | 19-Mar-2022 00:08 | 3.3K | ||
checksrc-summary.dcf | 19-Mar-2022 00:08 | 499 | ||
install-out.txt | 19-Mar-2022 00:08 | 2.4K | ||
install-summary.dcf | 19-Mar-2022 00:08 | 295 | ||