Name | Last modified | Size | Description | |
---|---|---|---|---|
Parent Directory | - | |||
install-out.txt | 20-Oct-2022 02:20 | 12K | ||
install-summary.dcf | 20-Oct-2022 02:20 | 263 | ||
buildsrc-out.txt | 20-Oct-2022 02:20 | 892 | ||
buildsrc-summary.dcf | 20-Oct-2022 02:20 | 423 | ||
checksrc-out.txt | 20-Oct-2022 02:20 | 5.7K | ||
checksrc-summary.dcf | 20-Oct-2022 02:20 | 438 | ||