Index of /checkResults/3.15/bioc-LATEST/ScISI/raw-results/riesling1
Name
Last modified
Size
Description
Parent Directory
-
buildsrc-out.txt
19-Mar-2022 00:08
3.1K
buildsrc-summary.dcf
19-Mar-2022 00:08
362
install-out.txt
19-Mar-2022 00:08
4.9K
install-summary.dcf
19-Mar-2022 00:08
264