Index of /checkResults/3.15/bioc-LATEST/ScISI/raw-results/palomino3
Name
Last modified
Size
Description
Parent Directory
-
buildsrc-out.txt
20-Oct-2022 02:22
3.1K
buildsrc-summary.dcf
20-Oct-2022 02:22
363
install-out.txt
20-Oct-2022 02:22
1.4K
install-summary.dcf
20-Oct-2022 02:22
264