Index of /checkResults/3.15/bioc-LATEST/ScISI/raw-results/merida1
Name
Last modified
Size
Description
Parent Directory
-
buildsrc-out.txt
20-Oct-2022 02:23
2.9K
buildsrc-summary.dcf
20-Oct-2022 02:23
340
install-out.txt
20-Oct-2022 02:23
1.4K
install-summary.dcf
20-Oct-2022 02:23
265