Name | Last modified | Size | Description | |
---|---|---|---|---|
Parent Directory | - | |||
install-summary.dcf | 20-Oct-2022 02:22 | 260 | ||
install-out.txt | 20-Oct-2022 02:22 | 2.5K | ||
checksrc-summary.dcf | 20-Oct-2022 02:22 | 431 | ||
checksrc-out.txt | 20-Oct-2022 02:22 | 4.2K | ||
buildsrc-summary.dcf | 20-Oct-2022 02:22 | 437 | ||
buildsrc-out.txt | 20-Oct-2022 02:22 | 851 | ||
buildbin-summary.dcf | 20-Oct-2022 02:22 | 490 | ||
buildbin-out.txt | 20-Oct-2022 02:22 | 2.6K | ||