Index of /checkResults/3.15/bioc-LATEST/RmiR/raw-results/palomino3
Name
Last modified
Size
Description
Parent Directory
-
buildsrc-out.txt
20-Oct-2022 02:22
912
buildsrc-summary.dcf
20-Oct-2022 02:22
358
install-out.txt
20-Oct-2022 02:22
616
install-summary.dcf
20-Oct-2022 02:22
264