Index of /checkResults/3.15/bioc-LATEST/RiboDiPA/raw-results
Name
Last modified
Size
Description
Parent Directory
-
info.dcf
24-May-2022 01:08
275
merida1/
24-May-2022 01:08
-
nebbiolo1/
24-May-2022 01:05
-
palomino3/
24-May-2022 01:07
-
riesling1/
19-Mar-2022 00:08
-