![]() | Name | Last modified | Size | Description |
---|---|---|---|---|
![]() | Parent Directory | - | ||
![]() | install-summary.dcf | 19-Mar-2022 00:08 | 271 | |
![]() | checksrc-summary.dcf | 19-Mar-2022 00:08 | 453 | |
![]() | buildsrc-summary.dcf | 19-Mar-2022 00:08 | 458 | |
![]() | buildbin-summary.dcf | 19-Mar-2022 00:08 | 524 | |
![]() | buildsrc-out.txt | 19-Mar-2022 00:08 | 885 | |
![]() | buildbin-out.txt | 19-Mar-2022 00:08 | 1.8K | |
![]() | install-out.txt | 19-Mar-2022 00:08 | 2.0K | |
![]() | checksrc-out.txt | 19-Mar-2022 00:08 | 4.5K | |