![]() | Name | Last modified | Size | Description |
---|---|---|---|---|
![]() | Parent Directory | - | ||
![]() | install-out.txt | 20-Oct-2022 02:20 | 953 | |
![]() | install-summary.dcf | 20-Oct-2022 02:20 | 262 | |
![]() | buildsrc-summary.dcf | 20-Oct-2022 02:20 | 420 | |
![]() | buildsrc-out.txt | 20-Oct-2022 02:20 | 853 | |
![]() | checksrc-out.txt | 20-Oct-2022 02:20 | 4.5K | |
![]() | checksrc-summary.dcf | 20-Oct-2022 02:20 | 430 | |