Name | Last modified | Size | Description | |
---|---|---|---|---|
Parent Directory | - | |||
buildbin-out.txt | 20-Oct-2022 02:22 | 65K | ||
buildbin-summary.dcf | 20-Oct-2022 02:22 | 528 | ||
buildsrc-out.txt | 20-Oct-2022 02:22 | 1.3K | ||
buildsrc-summary.dcf | 20-Oct-2022 02:22 | 461 | ||
checksrc-out.txt | 20-Oct-2022 02:22 | 6.9K | ||
checksrc-summary.dcf | 20-Oct-2022 02:22 | 460 | ||
install-out.txt | 20-Oct-2022 02:22 | 169K | ||
install-summary.dcf | 20-Oct-2022 02:22 | 274 | ||