Name | Last modified | Size | Description | |
---|---|---|---|---|
Parent Directory | - | |||
install-summary.dcf | 20-Oct-2022 02:20 | 271 | ||
install-out.txt | 20-Oct-2022 02:20 | 957 | ||
checksrc-summary.dcf | 20-Oct-2022 02:20 | 447 | ||
checksrc-out.txt | 20-Oct-2022 02:20 | 3.3K | ||
buildsrc-summary.dcf | 20-Oct-2022 02:20 | 435 | ||
buildsrc-out.txt | 20-Oct-2022 02:20 | 830 | ||