Name | Last modified | Size | Description | |
---|---|---|---|---|
Parent Directory | - | |||
install-summary.dcf | 20-Oct-2022 02:23 | 281 | ||
install-out.txt | 20-Oct-2022 02:23 | 1.0K | ||
checksrc-summary.dcf | 20-Oct-2022 02:23 | 468 | ||
checksrc-out.txt | 20-Oct-2022 02:23 | 3.3K | ||
buildsrc-summary.dcf | 20-Oct-2022 02:23 | 443 | ||
buildsrc-out.txt | 20-Oct-2022 02:23 | 840 | ||
buildbin-summary.dcf | 20-Oct-2022 02:23 | 566 | ||
buildbin-out.txt | 20-Oct-2022 02:23 | 1.2K | ||