Index of /checkResults/3.15/bioc-LATEST/RcwlPipelines/raw-results
Name
Last modified
Size
Description
Parent Directory
-
nebbiolo1/
20-Oct-2022 02:20
-
merida1/
20-Oct-2022 02:23
-
info.dcf
20-Oct-2022 02:23
283