Name | Last modified | Size | Description | |
---|---|---|---|---|
Parent Directory | - | |||
install-summary.dcf | 20-Oct-2022 02:20 | 259 | ||
install-out.txt | 20-Oct-2022 02:20 | 955 | ||
checksrc-summary.dcf | 20-Oct-2022 02:20 | 428 | ||
checksrc-out.txt | 20-Oct-2022 02:20 | 7.7K | ||
buildsrc-summary.dcf | 20-Oct-2022 02:20 | 417 | ||
buildsrc-out.txt | 20-Oct-2022 02:20 | 869 | ||