Index of /checkResults/3.15/bioc-LATEST/RITAN/raw-results/riesling1
Name
Last modified
Size
Description
Parent Directory
-
buildsrc-out.txt
19-Mar-2022 00:08
916
buildsrc-summary.dcf
19-Mar-2022 00:08
361
install-out.txt
19-Mar-2022 00:08
614
install-summary.dcf
19-Mar-2022 00:08
266