Name | Last modified | Size | Description | |
---|---|---|---|---|
Parent Directory | - | |||
buildbin-out.txt | 20-Oct-2022 02:23 | 52K | ||
buildbin-summary.dcf | 20-Oct-2022 02:23 | 513 | ||
buildsrc-out.txt | 20-Oct-2022 02:23 | 897 | ||
buildsrc-summary.dcf | 20-Oct-2022 02:23 | 419 | ||
checksrc-out.txt | 20-Oct-2022 02:23 | 4.1K | ||
checksrc-summary.dcf | 20-Oct-2022 02:23 | 431 | ||
install-out.txt | 20-Oct-2022 02:23 | 51K | ||
install-summary.dcf | 20-Oct-2022 02:23 | 264 | ||