Index of /checkResults/3.15/bioc-LATEST/PhyloProfile/raw-results/palomino3

[ICO]NameLast modifiedSizeDescription

[DIR]Parent Directory  -  
[TXT]buildbin-out.txt16-Aug-2022 02:21 1.1K 
[   ]buildbin-summary.dcf16-Aug-2022 02:21 545  
[TXT]buildsrc-out.txt16-Aug-2022 02:21 924  
[   ]buildsrc-summary.dcf16-Aug-2022 02:21 472  
[TXT]checksrc-out.txt16-Aug-2022 02:21 3.1K 
[   ]checksrc-summary.dcf16-Aug-2022 02:21 467  
[TXT]install-out.txt16-Aug-2022 02:21 1.0K 
[   ]install-summary.dcf16-Aug-2022 02:21 278