Index of /checkResults/3.15/bioc-LATEST/PhyloProfile/raw-results/nebbiolo1

[ICO]NameLast modifiedSizeDescription

[DIR]Parent Directory  -  
[TXT]buildsrc-out.txt16-Aug-2022 02:20 889  
[   ]buildsrc-summary.dcf16-Aug-2022 02:20 432  
[TXT]checksrc-out.txt16-Aug-2022 02:20 3.1K 
[   ]checksrc-summary.dcf16-Aug-2022 02:20 444  
[TXT]install-out.txt16-Aug-2022 02:20 970  
[   ]install-summary.dcf16-Aug-2022 02:20 269