Name | Last modified | Size | Description | |
---|---|---|---|---|
Parent Directory | - | |||
checksrc-out.txt | 20-Oct-2022 02:22 | 4.2K | ||
buildbin-out.txt | 20-Oct-2022 02:22 | 1.1K | ||
install-out.txt | 20-Oct-2022 02:22 | 962 | ||
buildsrc-out.txt | 20-Oct-2022 02:22 | 884 | ||
buildbin-summary.dcf | 20-Oct-2022 02:22 | 497 | ||
buildsrc-summary.dcf | 20-Oct-2022 02:22 | 440 | ||
checksrc-summary.dcf | 20-Oct-2022 02:22 | 434 | ||
install-summary.dcf | 20-Oct-2022 02:22 | 262 | ||