Name | Last modified | Size | Description | |
---|---|---|---|---|
Parent Directory | - | |||
install-summary.dcf | 19-Mar-2022 00:08 | 266 | ||
install-out.txt | 19-Mar-2022 00:08 | 1.6K | ||
checksrc-summary.dcf | 19-Mar-2022 00:08 | 448 | ||
checksrc-out.txt | 19-Mar-2022 00:08 | 9.8K | ||
buildsrc-summary.dcf | 19-Mar-2022 00:08 | 448 | ||
buildsrc-out.txt | 19-Mar-2022 00:08 | 894 | ||
buildbin-summary.dcf | 19-Mar-2022 00:08 | 508 | ||
buildbin-out.txt | 19-Mar-2022 00:08 | 1.6K | ||