Name | Last modified | Size | Description | |
---|---|---|---|---|
Parent Directory | - | |||
buildbin-out.txt | 20-Oct-2022 02:22 | 3.0K | ||
buildbin-summary.dcf | 20-Oct-2022 02:22 | 496 | ||
buildsrc-out.txt | 20-Oct-2022 02:22 | 916 | ||
buildsrc-summary.dcf | 20-Oct-2022 02:22 | 438 | ||
checksrc-out.txt | 20-Oct-2022 02:22 | 11K | ||
checksrc-summary.dcf | 20-Oct-2022 02:22 | 441 | ||
install-out.txt | 20-Oct-2022 02:22 | 2.9K | ||
install-summary.dcf | 20-Oct-2022 02:22 | 262 | ||