Name | Last modified | Size | Description | |
---|---|---|---|---|
Parent Directory | - | |||
checksrc-out.txt | 20-Oct-2022 02:23 | 5.7K | ||
buildbin-out.txt | 20-Oct-2022 02:23 | 1.1K | ||
install-out.txt | 20-Oct-2022 02:23 | 1.0K | ||
buildsrc-out.txt | 20-Oct-2022 02:23 | 870 | ||
buildbin-summary.dcf | 20-Oct-2022 02:23 | 515 | ||
checksrc-summary.dcf | 20-Oct-2022 02:23 | 434 | ||
buildsrc-summary.dcf | 20-Oct-2022 02:23 | 420 | ||
install-summary.dcf | 20-Oct-2022 02:23 | 264 | ||