Back to Multiple platform build/check report for BioC 3.15
ABCDEFGHIJKLMNO[P]QRSTUVWXYZ

This page was generated on 2022-05-23 12:06:54 -0400 (Mon, 23 May 2022).

HostnameOSArch (*)R versionInstalled pkgs
nebbiolo1Linux (Ubuntu 20.04.4 LTS)x86_644.2.0 (2022-04-22) -- "Vigorous Calisthenics" 4380
palomino3Windows Server 2022 Datacenterx644.2.0 (2022-04-22 ucrt) -- "Vigorous Calisthenics" 4155
merida1macOS 10.14.6 Mojavex86_644.2.0 (2022-04-22) -- "Vigorous Calisthenics" 4221
Click on any hostname to see more info about the system (e.g. compilers)      (*) as reported by 'uname -p', except on Windows and Mac OS X

CHECK results for PDATK on palomino3


To the developers/maintainers of the PDATK package:
- Please allow up to 24 hours (and sometimes 48 hours) for your latest push to git@git.bioconductor.org:packages/PDATK.git to
reflect on this report. See How and When does the builder pull? When will my changes propagate? for more information.
- Make sure to use the following settings in order to reproduce any error or warning you see on this page.

raw results

Package 1426/2140HostnameOS / ArchINSTALLBUILDCHECKBUILD BIN
PDATK 1.4.0  (landing page)
Benjamin Haibe-Kains
Snapshot Date: 2022-05-22 13:55:15 -0400 (Sun, 22 May 2022)
git_url: https://git.bioconductor.org/packages/PDATK
git_branch: RELEASE_3_15
git_last_commit: e8151e0
git_last_commit_date: 2022-04-26 12:13:17 -0400 (Tue, 26 Apr 2022)
nebbiolo1Linux (Ubuntu 20.04.4 LTS) / x86_64  OK    OK    OK  UNNEEDED, same version is already published
palomino3Windows Server 2022 Datacenter / x64  OK    OK    OK    OK  UNNEEDED, same version is already published
merida1macOS 10.14.6 Mojave / x86_64  OK    OK    OK    OK  UNNEEDED, same version is already published

Summary

Package: PDATK
Version: 1.4.0
Command: F:\biocbuild\bbs-3.15-bioc\R\bin\R.exe CMD check --no-multiarch --install=check:PDATK.install-out.txt --library=F:\biocbuild\bbs-3.15-bioc\R\library --no-vignettes --timings PDATK_1.4.0.tar.gz
StartedAt: 2022-05-23 02:05:36 -0400 (Mon, 23 May 2022)
EndedAt: 2022-05-23 02:11:00 -0400 (Mon, 23 May 2022)
EllapsedTime: 324.3 seconds
RetCode: 0
Status:   OK  
CheckDir: PDATK.Rcheck
Warnings: 0

Command output

##############################################################################
##############################################################################
###
### Running command:
###
###   F:\biocbuild\bbs-3.15-bioc\R\bin\R.exe CMD check --no-multiarch --install=check:PDATK.install-out.txt --library=F:\biocbuild\bbs-3.15-bioc\R\library --no-vignettes --timings PDATK_1.4.0.tar.gz
###
##############################################################################
##############################################################################


* using log directory 'F:/biocbuild/bbs-3.15-bioc/meat/PDATK.Rcheck'
* using R version 4.2.0 (2022-04-22 ucrt)
* using platform: x86_64-w64-mingw32 (64-bit)
* using session charset: UTF-8
* using option '--no-vignettes'
* checking for file 'PDATK/DESCRIPTION' ... OK
* checking extension type ... Package
* this is package 'PDATK' version '1.4.0'
* package encoding: UTF-8
* checking package namespace information ... OK
* checking package dependencies ... OK
* checking if this is a source package ... OK
* checking if there is a namespace ... OK
* checking for hidden files and directories ... OK
* checking for portable file names ... OK
* checking whether package 'PDATK' can be installed ... OK
* checking installed package size ... OK
* checking package directory ... OK
* checking 'build' directory ... OK
* checking DESCRIPTION meta-information ... OK
* checking top-level files ... OK
* checking for left-over files ... OK
* checking index information ... OK
* checking package subdirectories ... OK
* checking R files for non-ASCII characters ... OK
* checking R files for syntax errors ... OK
* checking whether the package can be loaded ... OK
* checking whether the package can be loaded with stated dependencies ... OK
* checking whether the package can be unloaded cleanly ... OK
* checking whether the namespace can be loaded with stated dependencies ... OK
* checking whether the namespace can be unloaded cleanly ... OK
* checking dependencies in R code ... OK
* checking S3 generic/method consistency ... OK
* checking replacement functions ... OK
* checking foreign function calls ... OK
* checking R code for possible problems ... NOTE
.calculateMSMthresholds: no visible binding for global variable
  'funContext'
.plotNetwork: no visible global function definition for 'legend'
NCSModel: no visible binding for global variable 'metric'
NCSModel: no visible binding for global variable 'comparison'
NCSModel: no visible binding for global variable 'centroid_K'
NCSModel: no visible binding for global variable 'assay_K'
NetworkCommunitySearchModel: no visible binding for global variable
  'metric'
NetworkCommunitySearchModel: no visible binding for global variable
  'comparison'
NetworkCommunitySearchModel: no visible binding for global variable
  'centroid_K'
NetworkCommunitySearchModel: no visible binding for global variable
  'assay_K'
predictClasses,ConsensusMetaclusteringModel-ANY: no visible global
  function definition for '.error'
predictClasses,NCSModel-ANY: no visible binding for global variable
  'centroid_cohort'
predictClasses,NCSModel-ANY: no visible binding for global variable
  'centroid_K'
predictClasses,NCSModel-ANY: no visible binding for global variable
  'assay_cohort'
predictClasses,NCSModel-ANY: no visible binding for global variable
  'assay_K'
predictClasses,NCSModel-ANY: no visible binding for global variable
  'tmp'
predictClasses,NCSModel-ANY: no visible binding for global variable
  'cluster_label'
rankFeatures,MultiAssayExperiment: no visible binding for global
  variable 'feature'
rankFeatures,MultiAssayExperiment: no visible binding for global
  variable 'missignAssays'
rankFeatures,MultiAssayExperiment: no visible binding for global
  variable 'feature_score'
rankFeatures,MultiAssayExperiment: no visible binding for global
  variable 'feature_rank'
trainModel,ConsensusMetaclusteringModel: no visible global function
  definition for 'pdf'
trainModel,ConsensusMetaclusteringModel: no visible global function
  definition for 'dev.off'
trainModel,NCSModel: no visible binding for global variable
  'ingroup_proportion'
trainModel,NCSModel: no visible binding for global variable
  'cor_threshold'
Undefined global functions or variables:
  .error assay_K assay_cohort centroid_K centroid_cohort cluster_label
  comparison cor_threshold dev.off feature feature_rank feature_score
  funContext ingroup_proportion legend metric missignAssays pdf tmp
Consider adding
  importFrom("grDevices", "dev.off", "pdf")
  importFrom("graphics", "legend")
to your NAMESPACE file.
* checking Rd files ... OK
* checking Rd metadata ... OK
* checking Rd cross-references ... OK
* checking for missing documentation entries ... OK
* checking for code/documentation mismatches ... OK
* checking Rd \usage sections ... OK
* checking Rd contents ... OK
* checking for unstated dependencies in examples ... OK
* checking contents of 'data' directory ... OK
* checking data for non-ASCII characters ... OK
* checking data for ASCII and uncompressed saves ... OK
* checking files in 'vignettes' ... OK
* checking examples ... OK
* checking for unstated dependencies in 'tests' ... OK
* checking tests ...
  Running 'testthat.R'
 OK
* checking for unstated dependencies in vignettes ... OK
* checking package vignettes in 'inst/doc' ... OK
* checking running R code from vignettes ... SKIPPED
* checking re-building of vignette outputs ... SKIPPED
* checking PDF version of manual ... OK
* DONE

Status: 1 NOTE
See
  'F:/biocbuild/bbs-3.15-bioc/meat/PDATK.Rcheck/00check.log'
for details.



Installation output

PDATK.Rcheck/00install.out

##############################################################################
##############################################################################
###
### Running command:
###
###   F:\biocbuild\bbs-3.15-bioc\R\bin\R.exe CMD INSTALL PDATK
###
##############################################################################
##############################################################################


* installing to library 'F:/biocbuild/bbs-3.15-bioc/R/library'
* installing *source* package 'PDATK' ...
** using staged installation
** R
** data
** byte-compile and prepare package for lazy loading
** help
*** installing help indices
** building package indices
** installing vignettes
** testing if installed package can be loaded from temporary location
** testing if installed package can be loaded from final location
** testing if installed package keeps a record of temporary installation path
* DONE (PDATK)

Tests output

PDATK.Rcheck/tests/testthat.Rout


R version 4.2.0 (2022-04-22 ucrt) -- "Vigorous Calisthenics"
Copyright (C) 2022 The R Foundation for Statistical Computing
Platform: x86_64-w64-mingw32/x64 (64-bit)

R is free software and comes with ABSOLUTELY NO WARRANTY.
You are welcome to redistribute it under certain conditions.
Type 'license()' or 'licence()' for distribution details.

R is a collaborative project with many contributors.
Type 'contributors()' for more information and
'citation()' on how to cite R or R packages in publications.

Type 'demo()' for some demos, 'help()' for on-line help, or
'help.start()' for an HTML browser interface to help.
Type 'q()' to quit R.

> library(testthat)
> library(PDATK)
Loading required package: SummarizedExperiment
Loading required package: MatrixGenerics
Loading required package: matrixStats

Attaching package: 'MatrixGenerics'

The following objects are masked from 'package:matrixStats':

    colAlls, colAnyNAs, colAnys, colAvgsPerRowSet, colCollapse,
    colCounts, colCummaxs, colCummins, colCumprods, colCumsums,
    colDiffs, colIQRDiffs, colIQRs, colLogSumExps, colMadDiffs,
    colMads, colMaxs, colMeans2, colMedians, colMins, colOrderStats,
    colProds, colQuantiles, colRanges, colRanks, colSdDiffs, colSds,
    colSums2, colTabulates, colVarDiffs, colVars, colWeightedMads,
    colWeightedMeans, colWeightedMedians, colWeightedSds,
    colWeightedVars, rowAlls, rowAnyNAs, rowAnys, rowAvgsPerColSet,
    rowCollapse, rowCounts, rowCummaxs, rowCummins, rowCumprods,
    rowCumsums, rowDiffs, rowIQRDiffs, rowIQRs, rowLogSumExps,
    rowMadDiffs, rowMads, rowMaxs, rowMeans2, rowMedians, rowMins,
    rowOrderStats, rowProds, rowQuantiles, rowRanges, rowRanks,
    rowSdDiffs, rowSds, rowSums2, rowTabulates, rowVarDiffs, rowVars,
    rowWeightedMads, rowWeightedMeans, rowWeightedMedians,
    rowWeightedSds, rowWeightedVars

Loading required package: GenomicRanges
Loading required package: stats4
Loading required package: BiocGenerics

Attaching package: 'BiocGenerics'

The following objects are masked from 'package:stats':

    IQR, mad, sd, var, xtabs

The following objects are masked from 'package:base':

    Filter, Find, Map, Position, Reduce, anyDuplicated, append,
    as.data.frame, basename, cbind, colnames, dirname, do.call,
    duplicated, eval, evalq, get, grep, grepl, intersect, is.unsorted,
    lapply, mapply, match, mget, order, paste, pmax, pmax.int, pmin,
    pmin.int, rank, rbind, rownames, sapply, setdiff, sort, table,
    tapply, union, unique, unsplit, which.max, which.min

Loading required package: S4Vectors

Attaching package: 'S4Vectors'

The following objects are masked from 'package:base':

    I, expand.grid, unname

Loading required package: IRanges

Attaching package: 'IRanges'

The following object is masked from 'package:grDevices':

    windows

Loading required package: GenomeInfoDb
Loading required package: Biobase
Welcome to Bioconductor

    Vignettes contain introductory material; view with
    'browseVignettes()'. To cite Bioconductor, see
    'citation("Biobase")', and for packages 'citation("pkgname")'.


Attaching package: 'Biobase'

The following object is masked from 'package:MatrixGenerics':

    rowMedians

The following objects are masked from 'package:matrixStats':

    anyMissing, rowMedians

> 
> test_check("PDATK")
[ FAIL 0 | WARN 0 | SKIP 0 | PASS 77 ]
> 
> proc.time()
   user  system elapsed 
  25.32    0.93   26.25 

Example timings

PDATK.Rcheck/PDATK-Ex.timings

nameusersystemelapsed
CSPC_MAE000
ClinicalModel-class0.110.000.11
ClinicalModel0.080.000.08
CohortList0.030.000.03
ConsensusMetaclusteringModel0.030.000.04
CoxModel0.330.000.33
GeneFuModel0.140.000.14
ModelComparison2.240.082.36
PCOSP0.060.000.06
RandomGeneAssignmentModel0.050.030.08
RandomLabelShufflingModel0.10.00.1
SurvivalExperiment0.110.000.11
SurvivalModel-class0.040.020.05
SurvivalModel0.030.000.03
assignColDataColumn0.030.000.03
assignSubtypes-CohortList-list-method0.330.020.35
assignSubtypes-SurvivalExperiment-data.frame-method0.030.010.04
assignSubtypes0.040.000.05
barPlotModelComparison-ClinicalModel-PCOSP_or_RLS_or_RGA-method0.770.000.77
barPlotModelComparison0.830.060.89
birnbaum000
chen000
cohortSubtypeDFs0.000.020.02
compareModels-ModelComparison-SurvivalModel-method0.680.010.69
compareModels-SurvivalModel-SurvivalModel-method0.570.040.61
compareModels0.740.010.75
dropNotCensored-CohortList-method0.440.020.45
dropNotCensored-SurvivalExperiment-method0.030.010.05
dropNotCensored0.030.020.04
existingClassifierData000
findCommonGenes-CohortList-method0.030.000.03
findCommonGenes0.010.000.02
findCommonSamples-CohortList-method0.020.010.03
findCommonSamples0.020.020.03
forestPlot-ModelComparison-method0.620.020.64
forestPlot-PCOSP_or_ClinicalModel-method0.050.010.06
forestPlot0.150.020.18
getModelSeed-SurvivalModel-method0.020.000.01
getModelSeed0.020.000.02
getTopFeatures-PCOSP-method0.010.000.01
getTopFeatures-SummarizedExperiment-method0.240.010.25
getTopFeatures0.010.000.02
haiderSigScores000
hasColDataColumns0.010.000.02
merge-SurvivalExperiment-SurvivalExperiment-method0.130.020.14
modelParams-set0.010.000.02
modelParams0.020.000.01
models-SurvivalModel-method0.010.000.02
models-set-SurvivalModel-SimpleList-method0.020.000.01
models-set0.020.000.02
models000
normalsMAE0.010.000.01
plotROC-PCOSP-method0.110.000.11
predictClasses-CohortList-ClinicalModel-method0.230.010.25
predictClasses-CohortList-PCOSP_or_RLS_or_RGA-method0.320.000.32
predictClasses-SurvivalExperiment-ClinicalModel-method0.140.020.15
predictClasses-SurvivalExperiment-PCOSP_or_RLS_or_RGA-method0.190.010.21
predictClasses0.150.000.16
rankFeatures-SummarizedExperiment-method0.130.000.12
rankFeatures0.110.020.13
removeColDataFactorColumns0.010.000.01
removeFactorColumns000
renameColDataColumns0.030.000.03
renameColumns000
sampleClinicalModel0.020.000.02
sampleCohortList0.010.000.02
sampleICGCmicro0.000.010.01
samplePCOSPmodel0.020.000.02
samplePCOSPpredList0.030.000.03
samplePCSIsurvExp000
sampleRGAmodel0.000.020.01
sampleRLSmodel0.020.000.02
sampleTrainedPCOSPmodel000
sampleValPCOSPmodel0.040.000.05
show-S4Model-method0.050.010.06
subset-CohortList-method0.150.000.16
trainData-set0.020.000.02
trainData0.000.020.01
trainModel-ClinicalModel-method0.060.010.08
trainModel-PCOSP-method0.950.040.98
trainModel-RGAModel-method0.880.000.88
trainModel-RLSModel-method0.860.000.86
trainModel0.950.000.95
validateModel-ClinicalModel-CohortList-method0.360.000.36
validateModel-ClinicalModel-SurvivalExperiment-method0.830.030.86
validateModel-GeneFuModel-CohortList-method1.030.041.08
validateModel-PCOSP_or_RLS_or_RGA-CohortList-method1.000.021.01
validateModel-PCOSP_or_RLS_or_RGA-SurvivalExperiment-method1.000.011.02
validateModel0.100.000.11
validationData-SurvivalModel-method0.000.020.01
validationData-set-SurvivalModel-CohortList-method0.000.020.02
validationData-set0.000.010.01
validationData0.020.000.02
validationStats-SurvivalModel-method0.000.020.01
validationStats-set-SurvivalModel-data.frame-method0.000.010.02
validationStats-set0.020.000.01
validationStats0.000.020.02